BEGIN:VCALENDAR
VERSION:2.0
PRODID:-//Monticello Golf Club - Monticello IL - ECPv6.15.20//NONSGML v1.0//EN
CALSCALE:GREGORIAN
METHOD:PUBLISH
X-WR-CALNAME:Monticello Golf Club - Monticello IL
X-ORIGINAL-URL:https://monticellogolfclub.org
X-WR-CALDESC:Events for Monticello Golf Club - Monticello IL
REFRESH-INTERVAL;VALUE=DURATION:PT1H
X-Robots-Tag:noindex
X-PUBLISHED-TTL:PT1H
BEGIN:VTIMEZONE
TZID:UTC
BEGIN:STANDARD
TZOFFSETFROM:+0000
TZOFFSETTO:+0000
TZNAME:UTC
DTSTART:20250101T000000
END:STANDARD
END:VTIMEZONE
BEGIN:VEVENT
DTSTART;TZID=UTC:20260613T000000
DTEND;TZID=UTC:20260614T235959
DTSTAMP:20260425T173010
CREATED:20260131T222249Z
LAST-MODIFIED:20260131T222251Z
UID:10000493-1781308800-1781481599@monticellogolfclub.org
SUMMARY:Howarter Open
DESCRIPTION:
URL:https://monticellogolfclub.org/event/howarter-open-2/
END:VEVENT
BEGIN:VEVENT
DTSTART;TZID=UTC:20260613T170000
DTEND;TZID=UTC:20260613T183000
DTSTAMP:20260425T173010
CREATED:20250305T221151Z
LAST-MODIFIED:20250305T221154Z
UID:10000073-1781370000-1781375400@monticellogolfclub.org
SUMMARY:Ace of Clubs Drawing
DESCRIPTION:
URL:https://monticellogolfclub.org/event/ace-of-clubs-drawing/2026-06-13/
END:VEVENT
END:VCALENDAR