BEGIN:VCALENDAR
VERSION:2.0
PRODID:-//Monticello Golf Club - Monticello IL - ECPv6.15.20//NONSGML v1.0//EN
CALSCALE:GREGORIAN
METHOD:PUBLISH
X-ORIGINAL-URL:https://monticellogolfclub.org
X-WR-CALDESC:Events for Monticello Golf Club - Monticello IL
REFRESH-INTERVAL;VALUE=DURATION:PT1H
X-Robots-Tag:noindex
X-PUBLISHED-TTL:PT1H
BEGIN:VTIMEZONE
TZID:UTC
BEGIN:STANDARD
TZOFFSETFROM:+0000
TZOFFSETTO:+0000
TZNAME:UTC
DTSTART:20250101T000000
END:STANDARD
END:VTIMEZONE
BEGIN:VEVENT
DTSTART;TZID=UTC:20260526T083000
DTEND;TZID=UTC:20260526T130000
DTSTAMP:20260425T124357
CREATED:20260131T221232Z
LAST-MODIFIED:20260131T221233Z
UID:10000439-1779784200-1779800400@monticellogolfclub.org
SUMMARY:Tuesday Ladies League
DESCRIPTION:
URL:https://monticellogolfclub.org/event/tuesday-ladies-league/2026-05-26/
END:VEVENT
BEGIN:VEVENT
DTSTART;TZID=UTC:20260526T160000
DTEND;TZID=UTC:20260526T210000
DTSTAMP:20260425T124357
CREATED:20260131T222113Z
LAST-MODIFIED:20260131T222115Z
UID:10000479-1779811200-1779829200@monticellogolfclub.org
SUMMARY:Tuesday Night Men's League
DESCRIPTION:
URL:https://monticellogolfclub.org/event/tuesday-night-mens-league/2026-05-26/
END:VEVENT
END:VCALENDAR